BEGIN:VCALENDAR
VERSION:2.0
PRODID:www.stappen-shoppen.nl
BEGIN:VEVENT
UID:stappen-shoppen.nl/entity/69e5d63bada8685ba505d235
DTSTAMP:20260421T025141Z
ORGANIZER;CN=:MAILTO:
DTSTART:20260510T150000Z
DTEND:20260510T180000Z
URL:https://www.cityappoosterhout.nl/ical/69e5d63bada8685ba505d235
SUMMARY:Moederdag aan het water
DESCRIPTION:Sluit je weekend in stijl af tijdens onze Sunday Early Dinner Sessions en vier Moederdag op een bijzondere manier
END:VEVENT
END:VCALENDAR

