BEGIN:VCALENDAR
VERSION:2.0
PRODID:www.stappen-shoppen.nl
BEGIN:VEVENT
UID:stappen-shoppen.nl/entity/69e8e38feb8ab1ed2a0e592a
DTSTAMP:20260423T121528Z
ORGANIZER;CN=:MAILTO:info@hethoutsemeer.nl
DTSTART:20260522T150000Z
DTEND:20260522T210000Z
URL:https://www.cityappoosterhout.nl/ical/69e8e38feb8ab1ed2a0e592a
SUMMARY:Dinner & Sax 🎷
DESCRIPTION:Laat je meevoeren door smaken en muziek tijdens een bijzondere avond bij Het Houtse Meer.
END:VEVENT
END:VCALENDAR

